{"text_format":"1","workbook":"xlsx","n_sheets":3,"sheets":["Linear","Nonlinear","Settings"],"not_rendered":{"charts":2,"images":4,"macros":0,"external_links":0,"defined_names":0,"comments":0,"pivot_tables":0},"unopened":[],"bounds":{"document_bytes":16777216,"sheet_cells":100000,"rows_first":2000,"rows_last":500,"rows_between":2000,"halvings":0,"cell_chars":16384,"cell_head_chars":4096},"cells_cut":0,"cells_raw":0,"read":"whole","date_system":"1900"}

{"sheet":"Linear","index":0,"n_rows":27,"n_cols":5,"rows_kept":27,"cut":false,"hidden":false,"merged":[]}
[]
["Slope",2,null,"Initial X",{"$f":"Settings!B2+Settings!B5*Settings!B4","v":2.8000000000000003}]
["Y_int",1,null,"Delta X",{"$f":"Settings!B6+Settings!B9*Settings!B8","v":1.7250000000000001}]
[]
[]
["X1","Y1",null,"X2","Y2"]
[0,{"$f":"$B$3+$B$2*A7","v":1},null,{"$f":"E2","v":2.8000000000000003},{"$f":"$B$3+$B$2*D7","v":6.6000000000000005}]
[1,{"$f":"$B$3+$B$2*A8","v":3},null,{"$f":"D7+$E$3","v":4.5250000000000004},{"$f":"E7","v":6.6000000000000005}]
[2,5,null,{"$f":"D8","v":4.5250000000000004},{"$f":"$B$3+$B$2*D9","v":10.050000000000001}]
[3,7,null,{"$f":"D9+$E$3","v":6.25},{"$f":"E9","v":10.050000000000001}]
[4,9,null,{"$f":"D10","v":6.25},{"$f":"$B$3+$B$2*D11","v":13.5}]
[5,11,null,{"$f":"D11+$E$3","v":7.9749999999999996},{"$f":"E11","v":13.5}]
[6,13,null,{"$f":"D12","v":7.9749999999999996},{"$f":"$B$3+$B$2*D13","v":16.95}]
[7,15]
[8,17]
[9,19,null,"X3","Y3"]
[10,21,null,{"$f":"A7","v":0},{"$f":"3*(B3+B2*(E2+E3))-2*(B3+B2*E2)","v":16.950000000000003}]
[11,23,null,{"$f":"A27","v":20},{"$f":"E17","v":16.950000000000003}]
[12,25]
[13,27,null,"X4","Y4"]
[14,29,null,{"$f":"D17","v":0},{"$f":"2*(B3+B2*(E2+E3))-(B3+B2*E2)","v":13.5}]
[15,31,null,{"$f":"D18","v":20},{"$f":"E21","v":13.5}]
[16,33]
[17,35,null,"X5","Y5"]
[18,37,null,{"$f":"D21","v":0},{"$f":"B3+B2*(E2+E3)","v":10.050000000000001}]
[19,39,null,{"$f":"D22","v":20},{"$f":"E25","v":10.050000000000001}]
[20,41]

{"sheet":"Nonlinear","index":1,"n_rows":27,"n_cols":5,"rows_kept":27,"cut":false,"hidden":false,"merged":[]}
[]
["a",0.5,null,"Initial X",{"$f":"Settings!C2+Settings!C5*Settings!C4","v":0.55000000000000004}]
["b",1,null,"Delta X",{"$f":"Settings!C6+Settings!C9*Settings!C8","v":1}]
[]
[]
["X1","Y1",null,"X2","Y2"]
[0,{"$f":"$B$2*EXP(A7)+$B$3","v":1.5},null,{"$f":"E2","v":0.55000000000000004},{"$f":"$B$2*EXP(D7)+$B$3","v":1.8666265089336975}]
[0.25,{"$f":"$B$2*EXP(A8)+$B$3","v":1.6420127083438707},null,{"$f":"D7+$E$3","v":1.55},{"$f":"E7","v":1.8666265089336975}]
[0.5,1.8243606353500641,null,{"$f":"D8","v":1.55},{"$f":"$B$2*EXP(D9)+$B$3","v":3.355735091295371}]
[0.75,2.0585000083063374,null,{"$f":"D9+$E$3","v":2.5499999999999998},{"$f":"E9","v":3.355735091295371}]
[1,2.3591409142295223,null,{"$f":"D10","v":2.5499999999999998},{"$f":"$B$2*EXP(D11)+$B$3","v":7.4035518913315146}]
[1.25,2.7451714787309207,null,{"$f":"D11+$E$3","v":3.55},{"$f":"E11","v":7.4035518913315146}]
[1.5,3.2408445351690323,null,{"$f":"D12","v":3.55},{"$f":"$B$2*EXP(D13)+$B$3","v":18.406658743801007}]
[1.75,3.8773013380028654]
[2,4.6945280494653252]
[2.25,5.7438679181792631,null,"X3","Y3"]
[2.5,7.0912469803517366,null,{"$f":"A7","v":0},{"$f":"3*(B2*EXP(E2+E3)+B3)-2*(B2*EXP(E2)+B3)","v":6.3339522560187183}]
[2.75,8.8213159420940848,null,{"$f":"A27","v":5},{"$f":"E17","v":6.3339522560187183}]
[3,11.042768461593834]
[3.25,13.895169958596531,null,"X4","Y4"]
[3.5,17.557725979346156,null,{"$f":"D17","v":0},{"$f":"2*(B2*EXP(E2+E3)+B3)-(B2*EXP(E2)+B3)","v":4.8448436736570439}]
[3.75,22.260541000031392,null,{"$f":"D18","v":5},{"$f":"E21","v":4.8448436736570439}]
[4,28.299075016572118]
[4.25,36.052706173343928,null,"X5","Y5"]
[4.5,46.008565650260905,null,{"$f":"D21","v":0},{"$f":"B2*EXP(E2+E3)+B3","v":3.355735091295371}]
[4.75,58.792142263593831,null,{"$f":"D22","v":5},{"$f":"E25","v":3.355735091295371}]
[5,75.2065795512883]

{"sheet":"Settings","index":2,"n_rows":9,"n_cols":3,"rows_kept":9,"cut":false,"hidden":false,"merged":[]}
[null,"Linear","Nonlinear"]
["X_init_Min",{"$f":"Linear!$A$7","v":0},{"$f":"Nonlinear!A7","v":0}]
["X_init_Max",{"$f":"TRUNC(Linear!$A$27-3*Linear!$E$3)","v":14},{"$f":"TRUNC(Nonlinear!A27-3*Nonlinear!E3)","v":2}]
["X_init_Read",40,55]
["X_Init_Steps",{"$f":"(B3-B2)/200","v":7.0000000000000007E-2},{"$f":"(C3-C2)/200","v":0.01}]
["Del_X_Min",0,0]
["Del_X_Max",5,1]
["Del_X_Read",69,200]
["Del_X_Steps",{"$f":"(B7-B6)/200","v":2.5000000000000001E-2},{"$f":"(C7-C6)/200","v":5.0000000000000001E-3}]